BEGIN:VCALENDAR
VERSION:2.0
PRODID:-//www.challengercolorado.org//NONSGML kigkonsult.se iCalcreator 2.3
 0.10//
CALSCALE:GREGORIAN
METHOD:PUBLISH
UID:e5b4a590-b68b-48b0-bcf8-f2d04431dc88
X-WR-CALDESC:
X-WR-RELCALID:9fc63e3c604c7246cc30b7242f1a3006
X-WR-TIMEZONE:America/Denver
BEGIN:VTIMEZONE
TZID:America/Denver
BEGIN:STANDARD
TZNAME:MST
DTSTART:20201101T020000
TZOFFSETFROM:-0600
TZOFFSETTO:-0700
RDATE:20211107T020000
RDATE:20221106T020000
END:STANDARD
BEGIN:DAYLIGHT
TZNAME:MDT
DTSTART:20210314T020000
TZOFFSETFROM:-0700
TZOFFSETTO:-0600
RDATE:20220313T020000
END:DAYLIGHT
END:VTIMEZONE
BEGIN:VEVENT
UID:2c443327-05f0-495f-b091-4c769c39ab2b
DTSTAMP:20260421T104950Z
DESCRIPTION:
DTSTART;TZID=America/Denver:20210719T083000
DTEND;TZID=America/Denver:20210723T153000
LOCATION:8717 Wolf Valley Drive\, Colorado Springs\, CO 80924 US
SUMMARY:I/O Arduino Camp
END:VEVENT
END:VCALENDAR
