BEGIN:VCALENDAR
VERSION:2.0
PRODID:-//www.challengercolorado.org//NONSGML kigkonsult.se iCalcreator 2.3
 0.10//
CALSCALE:GREGORIAN
METHOD:PUBLISH
UID:fe3cac96-05a4-4ffc-8216-6e3c8b70b23f
X-WR-CALDESC:Humanity is headed back to the moon! Not since 1972 has a huma
 n set foot on the surface of the moon. NASA's Artemis program is poised to
  take us back\, utilizing the talents of a diverse team\, who will lay the
  foundation for a pioneering expedition to Mars. Our planetarium show will
  focus on the moon and its phases. This month's activity will examine the 
 temperature changes on the lunar surface.\n\nRegistration opens: May 2\, 8
 :00 am MT
X-WR-RELCALID:2c17c91eb4e132f9d615577f7fa5feea
X-WR-TIMEZONE:America/Denver
BEGIN:VTIMEZONE
TZID:America/Denver
BEGIN:STANDARD
TZNAME:MST
DTSTART:20211107T020000
TZOFFSETFROM:-0600
TZOFFSETTO:-0700
RDATE:20221106T020000
RDATE:20231105T020000
END:STANDARD
BEGIN:DAYLIGHT
TZNAME:MDT
DTSTART:20220313T020000
TZOFFSETFROM:-0700
TZOFFSETTO:-0600
RDATE:20230312T020000
END:DAYLIGHT
END:VTIMEZONE
BEGIN:VEVENT
UID:7ba7ac85-b23f-4919-8e26-19bfca860b1a
DTSTAMP:20260420T055901Z
DESCRIPTION:Humanity is headed back to the moon! Not since 1972 has a human
  set foot on the surface of the moon. NASA's Artemis program is poised to 
 take us back\, utilizing the talents of a diverse team\, who will lay the 
 foundation for a pioneering expedition to Mars. Our planetarium show will 
 focus on the moon and its phases. This month's activity will examine the t
 emperature changes on the lunar surface.\n\nRegistration opens: May 2\, 8:
 00 am MT
DTSTART;TZID=America/Denver:20220514T090000
DTEND;TZID=America/Denver:20220514T140000
LOCATION:8717 Wolf Valley Drive\, Colorado Springs\, CO 80919 US
SUMMARY:Second Saturday Science - Artemis I: Back to the Moon
END:VEVENT
END:VCALENDAR
