BEGIN:VCALENDAR
VERSION:2.0
PRODID:-//www.challengercolorado.org//NONSGML kigkonsult.se iCalcreator 2.3
 0.10//
CALSCALE:GREGORIAN
METHOD:PUBLISH
UID:4d5eb14c-bbd0-4c2d-a61f-3d889a86ef8d
X-WR-CALDESC:This 2-day event invites educators to collaborate with colleag
 ues\, interact with subject matter experts and get their hands on material
 s that will encourage STEM integration across the curriculum.
X-WR-RELCALID:5bf8b07643737e0052cada60fc68cdd4
X-WR-TIMEZONE:America/Denver
BEGIN:VTIMEZONE
TZID:America/Denver
BEGIN:STANDARD
TZNAME:MST
DTSTART:20211107T020000
TZOFFSETFROM:-0600
TZOFFSETTO:-0700
RDATE:20221106T020000
RDATE:20231105T020000
END:STANDARD
BEGIN:DAYLIGHT
TZNAME:MDT
DTSTART:20220313T020000
TZOFFSETFROM:-0700
TZOFFSETTO:-0600
RDATE:20230312T020000
END:DAYLIGHT
END:VTIMEZONE
BEGIN:VEVENT
UID:a579639a-da79-487d-bebd-63690d06c8bc
DTSTAMP:20260425T214140Z
DESCRIPTION:This 2-day event invites educators to collaborate with colleagu
 es\, interact with subject matter experts and get their hands on materials
  that will encourage STEM integration across the curriculum.
DTSTART;TZID=America/Denver:20220719T083000
DTEND;TZID=America/Denver:20220720T153000
LOCATION:8717 Wolf Valley Drive\, Colorado Springs \, CO 80924 US
SUMMARY:STEM Boot Camp 2022
END:VEVENT
END:VCALENDAR
