BEGIN:VCALENDAR
VERSION:2.0
PRODID:-//www.challengercolorado.org//NONSGML kigkonsult.se iCalcreator 2.3
 0.10//
CALSCALE:GREGORIAN
METHOD:PUBLISH
UID:96ec559e-a616-41c1-81a3-e4e6fc9ec0f4
X-WR-CALDESC:Cool Science Carnival Day for Kids at UCCS is truly STEAM on s
 teroids!\n\nJoin Challenger and many other fantastic STEAM-focused educati
 on organizations at the University of Colorado Springs.  Click here for mo
 re information about this fun event for kids of all ages: https://www.cool
 science.org/cool-science-carnival-day.html\n
X-WR-RELCALID:b225263147ee235e5a731ee45d785095
X-WR-TIMEZONE:America/Denver
BEGIN:VTIMEZONE
TZID:America/Denver
BEGIN:STANDARD
TZNAME:MST
DTSTART:20211107T020000
TZOFFSETFROM:-0600
TZOFFSETTO:-0700
RDATE:20221106T020000
RDATE:20231105T020000
END:STANDARD
BEGIN:DAYLIGHT
TZNAME:MDT
DTSTART:20220313T020000
TZOFFSETFROM:-0700
TZOFFSETTO:-0600
RDATE:20230312T020000
END:DAYLIGHT
END:VTIMEZONE
BEGIN:VEVENT
UID:6d85c9e1-f51a-46e4-aa6c-478739e8611c
DTSTAMP:20260425T184254Z
DESCRIPTION:Cool Science Carnival Day for Kids at UCCS is truly STEAM on st
 eroids!\n\nJoin Challenger and many other fantastic STEAM-focused educatio
 n organizations at the University of Colorado Springs.  Click here for mor
 e information about this fun event for kids of all ages: https://www.cools
 cience.org/cool-science-carnival-day.html\n
DTSTART;TZID=America/Denver:20220908T100000
DTEND;TZID=America/Denver:20220908T160000
LOCATION:1420 Austin Bluffs Parkway\, Colorado Springs\, CO 80920 US
SUMMARY:Cool Science Carnival Day
END:VEVENT
END:VCALENDAR
