BEGIN:VCALENDAR
VERSION:2.0
PRODID:-//www.challengercolorado.org//NONSGML kigkonsult.se iCalcreator 2.3
 0.10//
CALSCALE:GREGORIAN
METHOD:PUBLISH
UID:9807ae77-a33b-4ae5-a4ed-3fe114de750d
X-WR-CALDESC:An open house style event for school-age students and their fa
 milies to spend time learning together. Hands-on activities\, planetarium 
 shows\, rocket launches and this August\, vendors and partners! Challenger
  Homes and Cutting Edge Realty are partnering with us to raise backpacks f
 or students in need. Bring a new or gently used backpack to be entered int
 o a drawing for a prize package.
X-WR-RELCALID:8ee376438c2085d214998e56f4b3f9b9
X-WR-TIMEZONE:America/Denver
BEGIN:VTIMEZONE
TZID:America/Denver
BEGIN:STANDARD
TZNAME:MST
DTSTART:20241103T020000
TZOFFSETFROM:-0600
TZOFFSETTO:-0700
RDATE:20251102T020000
RDATE:20261101T020000
END:STANDARD
BEGIN:DAYLIGHT
TZNAME:MDT
DTSTART:20250309T020000
TZOFFSETFROM:-0700
TZOFFSETTO:-0600
RDATE:20260308T020000
END:DAYLIGHT
END:VTIMEZONE
BEGIN:VEVENT
UID:6786d08a-0aa8-4cf6-b22a-6db9de39a653
DTSTAMP:20260421T145235Z
DESCRIPTION:An open house style event for school-age students and their fam
 ilies to spend time learning together. Hands-on activities\, planetarium s
 hows\, rocket launches and this August\, vendors and partners! Challenger 
 Homes and Cutting Edge Realty are partnering with us to raise backpacks fo
 r students in need. Bring a new or gently used backpack to be entered into
  a drawing for a prize package.
DTSTART;TZID=America/Denver:20250809T090000
DTEND;TZID=America/Denver:20250809T120000
LOCATION:8717 Wolf Valley Drive\, Colorado Springs\, CO 80924 US
SUMMARY:Second Saturday Science - Back to School
END:VEVENT
END:VCALENDAR
