BEGIN:VCALENDAR
VERSION:2.0
PRODID:-//www.challengercolorado.org//NONSGML kigkonsult.se iCalcreator 2.3
 0.10//
CALSCALE:GREGORIAN
METHOD:PUBLISH
UID:7bff5709-7c83-432f-810b-d2557017fb66
X-WR-CALDESC:This month’s family activities are all about perseverance\, gi
 ving students and their families the chance to explore fun challenges toge
 ther while building resilience\, confidence\, and a ‘keep trying’ spirit\,
  accompanied by a Perseverance rover on Mars planetarium show.
X-WR-RELCALID:516cc2f5d62b08e80573e35c89b7033c
X-WR-TIMEZONE:America/Denver
BEGIN:VTIMEZONE
TZID:America/Denver
BEGIN:STANDARD
TZNAME:MST
DTSTART:20241103T020000
TZOFFSETFROM:-0600
TZOFFSETTO:-0700
RDATE:20251102T020000
RDATE:20261101T020000
END:STANDARD
BEGIN:DAYLIGHT
TZNAME:MDT
DTSTART:20250309T020000
TZOFFSETFROM:-0700
TZOFFSETTO:-0600
RDATE:20260308T020000
RDATE:20270314T020000
END:DAYLIGHT
END:VTIMEZONE
BEGIN:VEVENT
UID:841bd513-c8f5-47f0-a49f-4d1085917f86
DTSTAMP:20260421T131808Z
DESCRIPTION:This month’s family activities are all about perseverance\, giv
 ing students and their families the chance to explore fun challenges toget
 her while building resilience\, confidence\, and a ‘keep trying’ spirit\, 
 accompanied by a Perseverance rover on Mars planetarium show.
DTSTART;TZID=America/Denver:20250913T090000
DTEND;TZID=America/Denver:20250913T120000
LOCATION:8717 Wolf Valley Drive\, Colorado Springs\, CO 80919 US
SUMMARY:Second Saturday Science - September
END:VEVENT
END:VCALENDAR
