BEGIN:VCALENDAR
VERSION:2.0
PRODID:-//www.challengercolorado.org//NONSGML kigkonsult.se iCalcreator 2.3
 0.10//
CALSCALE:GREGORIAN
METHOD:PUBLISH
UID:4e1008e9-b5ce-495d-bb67-26afd1f7b53d
X-WR-CALDESC:Join us and hundreds of other science organizations and enthus
 iasts for a day of exciting science magic shows\, laboratory tours and dem
 os\, rockets\, slime\, drones\, live animals\, virtual reality\, robots\, 
 liquid nitrogen treats\, and lots of other hands-on STEAM (Science\, Techn
 ology\, Engineering\, Art & Math) activities and exhibits for kids (primar
 ily K-8th grades).  It's all FREE (even the parking) and fun for all ages!
X-WR-RELCALID:3f5e69b3f7678a0399b25152fea82417
X-WR-TIMEZONE:America/Denver
BEGIN:VTIMEZONE
TZID:America/Denver
BEGIN:STANDARD
TZNAME:MST
DTSTART:20241103T020000
TZOFFSETFROM:-0600
TZOFFSETTO:-0700
RDATE:20251102T020000
RDATE:20261101T020000
END:STANDARD
BEGIN:DAYLIGHT
TZNAME:MDT
DTSTART:20250309T020000
TZOFFSETFROM:-0700
TZOFFSETTO:-0600
RDATE:20260308T020000
RDATE:20270314T020000
END:DAYLIGHT
END:VTIMEZONE
BEGIN:VEVENT
UID:21c1a0f9-5b52-4c12-8375-762281df9533
DTSTAMP:20260421T131916Z
DESCRIPTION:Join us and hundreds of other science organizations and enthusi
 asts for a day of exciting science magic shows\, laboratory tours and demo
 s\, rockets\, slime\, drones\, live animals\, virtual reality\, robots\, l
 iquid nitrogen treats\, and lots of other hands-on STEAM (Science\, Techno
 logy\, Engineering\, Art & Math) activities and exhibits for kids (primari
 ly K-8th grades).  It's all FREE (even the parking) and fun for all ages!
DTSTART;TZID=America/Denver:20250927T100000
DTEND;TZID=America/Denver:20250927T160000
LOCATION:1420 Austin Bluffs Parkway\, Colorado Springs\, CO 80919 US
SUMMARY:Cool Science Festival Carnival Day at UCCES
END:VEVENT
END:VCALENDAR
