BEGIN:VCALENDAR
VERSION:2.0
PRODID:-//www.challengercolorado.org//NONSGML kigkonsult.se iCalcreator 2.3
 0.10//
CALSCALE:GREGORIAN
METHOD:PUBLISH
UID:405450de-ff75-4352-b130-c2d6e2d6b948
X-WR-CALDESC:This October 11th\, we unveil the Challenger Flag - symbol of 
 courage\, exploration and resilience. An unveiling ceremony will take plac
 e at 9:30 am with family activities beginning at 10:00 am. Activities will
  highlight concepts from Christa's Lost Lessons and will include a planeta
 rium show and rocket launches.
X-WR-RELCALID:fe3bc4856de03caf16ed79b8f1802394
X-WR-TIMEZONE:America/Denver
BEGIN:VTIMEZONE
TZID:America/Denver
BEGIN:STANDARD
TZNAME:MST
DTSTART:20241103T020000
TZOFFSETFROM:-0600
TZOFFSETTO:-0700
RDATE:20251102T020000
RDATE:20261101T020000
END:STANDARD
BEGIN:DAYLIGHT
TZNAME:MDT
DTSTART:20250309T020000
TZOFFSETFROM:-0700
TZOFFSETTO:-0600
RDATE:20260308T020000
RDATE:20270314T020000
END:DAYLIGHT
END:VTIMEZONE
BEGIN:VEVENT
UID:d5070a10-2868-4f41-b596-dae206bdcb70
DTSTAMP:20260421T115216Z
DESCRIPTION:This October 11th\, we unveil the Challenger Flag - symbol of c
 ourage\, exploration and resilience. An unveiling ceremony will take place
  at 9:30 am with family activities beginning at 10:00 am. Activities will 
 highlight concepts from Christa's Lost Lessons and will include a planetar
 ium show and rocket launches.
DTSTART;TZID=America/Denver:20251011T093000
DTEND;TZID=America/Denver:20251011T130000
LOCATION:8717 Wolf Valley Drive\, Colorado Springs\, AL 80919 US
SUMMARY:Second Saturday Science
END:VEVENT
END:VCALENDAR
