BEGIN:VCALENDAR
VERSION:2.0
PRODID:-//www.challengercolorado.org//NONSGML kigkonsult.se iCalcreator 2.3
 0.10//
CALSCALE:GREGORIAN
METHOD:PUBLISH
UID:59c46b01-d472-4503-a73d-63de9a7da00c
X-WR-CALDESC:May's Exploration Expedition will wrap up our Second Saturday 
 Family Science for the 2025-2026 school year. Families will work together 
 to complete science investigations and calculations while visiting local v
 enues\, snapping pictures (and videos). 2 prize packages (private planetar
 ium show for up to 25 guests and Challenger swag for the family) will be a
 warded to the teams who demonstrate the most creativity and accuracy.
X-WR-RELCALID:975670ee27d6fdd74042898eb505b7fb
X-WR-TIMEZONE:America/Denver
BEGIN:VTIMEZONE
TZID:America/Denver
BEGIN:STANDARD
TZNAME:MST
DTSTART:20251102T020000
TZOFFSETFROM:-0600
TZOFFSETTO:-0700
RDATE:20261101T020000
RDATE:20271107T020000
END:STANDARD
BEGIN:DAYLIGHT
TZNAME:MDT
DTSTART:20260308T020000
TZOFFSETFROM:-0700
TZOFFSETTO:-0600
RDATE:20270314T020000
END:DAYLIGHT
END:VTIMEZONE
BEGIN:VEVENT
UID:fcbefdb4-b926-4d8f-9ab4-43b3e94cb978
DTSTAMP:20260420T201753Z
DESCRIPTION:May's Exploration Expedition will wrap up our Second Saturday F
 amily Science for the 2025-2026 school year. Families will work together t
 o complete science investigations and calculations while visiting local ve
 nues\, snapping pictures (and videos). 2 prize packages (private planetari
 um show for up to 25 guests and Challenger swag for the family) will be aw
 arded to the teams who demonstrate the most creativity and accuracy.
DTSTART;TZID=America/Denver:20260509T090000
DTEND;TZID=America/Denver:20260509T110000
LOCATION:8717 Wolf Valley Drive\, Colorado Springs\, CO 80924 US
SUMMARY:May Second Saturday Science - Exploration Expedition
END:VEVENT
END:VCALENDAR
