BEGIN:VCALENDAR
VERSION:2.0
PRODID:-//www.challengercolorado.org//NONSGML kigkonsult.se iCalcreator 2.3
 0.10//
CALSCALE:GREGORIAN
METHOD:PUBLISH
UID:c973f70c-12af-4b8b-b8ab-145ef9ab77d5
X-WR-CALDESC:Defenders are on a mission to protect Earth from rocky maraude
 rs traveling through the solar system. Campers will learn about celestial 
 bodies and planetary science\, while working together to conceptualize\, d
 esign and build engineering concepts that aid in the protection of our pla
 net.
X-WR-RELCALID:aed38326b2262ccd164872d8131667d8
X-WR-TIMEZONE:America/Denver
BEGIN:VTIMEZONE
TZID:America/Denver
BEGIN:STANDARD
TZNAME:MST
DTSTART:20251102T020000
TZOFFSETFROM:-0600
TZOFFSETTO:-0700
RDATE:20261101T020000
RDATE:20271107T020000
END:STANDARD
BEGIN:DAYLIGHT
TZNAME:MDT
DTSTART:20260308T020000
TZOFFSETFROM:-0700
TZOFFSETTO:-0600
RDATE:20270314T020000
END:DAYLIGHT
END:VTIMEZONE
BEGIN:VEVENT
UID:f7e27b23-712d-4402-881f-b4dbd7a95bf9
DTSTAMP:20260420T185207Z
DESCRIPTION:Defenders are on a mission to protect Earth from rocky marauder
 s traveling through the solar system. Campers will learn about celestial b
 odies and planetary science\, while working together to conceptualize\, de
 sign and build engineering concepts that aid in the protection of our plan
 et.
DTSTART;TZID=America/Denver:20260608T083000
DTEND;TZID=America/Denver:20260611T153000
LOCATION:8701 Wolf Valley Drive\, Colorado Springs\, CO 80924 US
SUMMARY:Defenders (gr 5-7) - Legacy Peak 1
END:VEVENT
END:VCALENDAR
