BEGIN:VCALENDAR
VERSION:2.0
PRODID:-//www.challengercolorado.org//NONSGML kigkonsult.se iCalcreator 2.3
 0.10//
CALSCALE:GREGORIAN
METHOD:PUBLISH
UID:5f9cdce9-a21f-4916-ba3d-9a78f619e368
X-WR-CALDESC:Defenders are on a mission to protect Earth from rocky maraude
 rs traveling through the solar system. Campers will learn about celestial 
 bodies and planetary science\, while working together to conceptualize\, d
 esign and build engineering concepts that aid in the protection of our pla
 net.
X-WR-RELCALID:f7d7c6d346e03a11d33fd1426d0c9a72
X-WR-TIMEZONE:America/Denver
BEGIN:VTIMEZONE
TZID:America/Denver
BEGIN:STANDARD
TZNAME:MST
DTSTART:20251102T020000
TZOFFSETFROM:-0600
TZOFFSETTO:-0700
RDATE:20261101T020000
RDATE:20271107T020000
END:STANDARD
BEGIN:DAYLIGHT
TZNAME:MDT
DTSTART:20260308T020000
TZOFFSETFROM:-0700
TZOFFSETTO:-0600
RDATE:20270314T020000
END:DAYLIGHT
END:VTIMEZONE
BEGIN:VEVENT
UID:4b48522a-b551-44e8-b905-991e1076c37c
DTSTAMP:20260423T100511Z
DESCRIPTION:Defenders are on a mission to protect Earth from rocky marauder
 s traveling through the solar system. Campers will learn about celestial b
 odies and planetary science\, while working together to conceptualize\, de
 sign and build engineering concepts that aid in the protection of our plan
 et.
DTSTART;TZID=America/Denver:20260622T083000
DTEND;TZID=America/Denver:20260625T153000
LOCATION:8701 Wolf Valley Drive\, Colorado Springs\, CO 80924 US
SUMMARY:Defenders (gr 5-7) - Legacy Peak 2
END:VEVENT
END:VCALENDAR
